{
 "currentVersion": 11.5,
 "serviceDescription": "The Sea, Lake, and Overland Surges from Hurricanes (SLOSH) model is a numerical model used by NWS to compute storm surge. Storm surge is defined as the abnormal rise of water generated by a storm, over and above the predicted astronomical tides. Flooding from storm surge depends on many factors, such as the track, intensity, size, and forward speed of the hurricane and the characteristics of the coastline where it comes ashore or passes nearby. For planning purposes, the NHC uses a representative sample of hypothetical storms to estimate the near worst-case scenario of flooding for each hurricane category.\n\nSLOSH employs curvilinear polar, elliptical, and hyperbolic telescoping mesh grids to simulate the storm surge hazard. The spatial coverage for each SLOSH grid ranges from an area the size of a few counties to a few states. The resolution of individual grid cells within each basin ranges from tens to hundreds of meters to a kilometer or more. Sub-grid scale water features and topographic obstructions such as channels, rivers, and cuts and levees, barriers, and roads, respectively, are parameterized to improve the modeled water levels.\n\nNHC provides two near worst case scenario planning products based on hypothetical storm tracks: Maximum Envelopes of Water (MEOWs) and Maximum of Maximums (MOMs). MEOWs are created by computing the maximum storm surge resulting from up to 100,000 hypothetical storms simulated through each SLOSH grid of varying forward speed, radius of maximum wind, intensity (Categories 1-5), landfall location, initial water level, and storm direction. A MEOW product is created for each combination of category, forward speed, storm direction, and initial water level. SLOSH products do not include Category 5 storms north of the NC/VA border. For each storm combination, parallel storms make landfall in 5 to 10 mile increments along the coast within the SLOSH grid, and the maximum storm surge footprint from each simulation is composited, retaining the maximum height of storm surge in a given basin grid cell. No single hurricane will produce the regional flooding depicted in the MEOWs. SLOSH model MOMs are an ensemble product of maximum storm surge heights. MOMs are created for each SLOSH basin by compositing all the MEOWs, separated by category and initial water level, and selecting maximum storm surge value for each grid cell regardless of the forward speed, storm trajectory, or landfall location. The MOMs represent the worst case scenario for a given category of storm and initial water level under ideal storm conditions. A high tide initial water level was used for the storm surge hazard maps. \n\nThis product uses the expertise of the NHC Storm Surge Unit to merge the operational SLOSH grids to build a seamless map of storm surge hazard scenarios using the MOM product. Each individual SLOSH grid for the Category 1-5 MOMs are merged into a single, seamless grid. The seamless grid is then resampled, interpolated, and processed with a Digital Elevation Model (DEM, i.e. topography) to compute the storm surge hazard above ground for each hurricane category. It should be noted that the SLOSH MOM storm surge hazard data used to create these maps are constrained by the extent of the SLOSH grids users should be aware that risk due to storm surge flooding could extend beyond the areas depicted in these maps. The resulting dataset is then reclassified into the bins described in the entity overview. The areas marked with a value of \"99\" represent certain levee areas, such as the Hurricane and Storm Damage Risk Reduction System in Louisiana. These areas are highly complex and this product should not be used to assess the storm surge hazard within these areas. Users are urged to consult local officials for flood risk inside these levee areas. Not all levee areas are included in this analysis - in particular, local features such as construction walls, levees, berms, pumping systems, or other mitigation systems found at the local level may not be included in this analysis.",
 "serviceItemId": "4d7cb4619ff74cd7a960fadd5c801e89",
 "name": "Resilience/SC_Category4_Inundation",
 "description": "The Sea, Lake, and Overland Surges from Hurricanes (SLOSH) model is a numerical model used by NWS to compute storm surge. Storm surge is defined as the abnormal rise of water generated by a storm, over and above the predicted astronomical tides. Flooding from storm surge depends on many factors, such as the track, intensity, size, and forward speed of the hurricane and the characteristics of the coastline where it comes ashore or passes nearby. For planning purposes, the NHC uses a representative sample of hypothetical storms to estimate the near worst-case scenario of flooding for each hurricane category.\n\nSLOSH employs curvilinear polar, elliptical, and hyperbolic telescoping mesh grids to simulate the storm surge hazard. The spatial coverage for each SLOSH grid ranges from an area the size of a few counties to a few states. The resolution of individual grid cells within each basin ranges from tens to hundreds of meters to a kilometer or more. Sub-grid scale water features and topographic obstructions such as channels, rivers, and cuts and levees, barriers, and roads, respectively, are parameterized to improve the modeled water levels.\n\nNHC provides two near worst case scenario planning products based on hypothetical storm tracks: Maximum Envelopes of Water (MEOWs) and Maximum of Maximums (MOMs). MEOWs are created by computing the maximum storm surge resulting from up to 100,000 hypothetical storms simulated through each SLOSH grid of varying forward speed, radius of maximum wind, intensity (Categories 1-5), landfall location, initial water level, and storm direction. A MEOW product is created for each combination of category, forward speed, storm direction, and initial water level. SLOSH products do not include Category 5 storms north of the NC/VA border. For each storm combination, parallel storms make landfall in 5 to 10 mile increments along the coast within the SLOSH grid, and the maximum storm surge footprint from each simulation is composited, retaining the maximum height of storm surge in a given basin grid cell. No single hurricane will produce the regional flooding depicted in the MEOWs. SLOSH model MOMs are an ensemble product of maximum storm surge heights. MOMs are created for each SLOSH basin by compositing all the MEOWs, separated by category and initial water level, and selecting maximum storm surge value for each grid cell regardless of the forward speed, storm trajectory, or landfall location. The MOMs represent the worst case scenario for a given category of storm and initial water level under ideal storm conditions. A high tide initial water level was used for the storm surge hazard maps. \n\nThis product uses the expertise of the NHC Storm Surge Unit to merge the operational SLOSH grids to build a seamless map of storm surge hazard scenarios using the MOM product. Each individual SLOSH grid for the Category 1-5 MOMs are merged into a single, seamless grid. The seamless grid is then resampled, interpolated, and processed with a Digital Elevation Model (DEM, i.e. topography) to compute the storm surge hazard above ground for each hurricane category. It should be noted that the SLOSH MOM storm surge hazard data used to create these maps are constrained by the extent of the SLOSH grids users should be aware that risk due to storm surge flooding could extend beyond the areas depicted in these maps. The resulting dataset is then reclassified into the bins described in the entity overview. The areas marked with a value of \"99\" represent certain levee areas, such as the Hurricane and Storm Damage Risk Reduction System in Louisiana. These areas are highly complex and this product should not be used to assess the storm surge hazard within these areas. Users are urged to consult local officials for flood risk inside these levee areas. Not all levee areas are included in this analysis - in particular, local features such as construction walls, levees, berms, pumping systems, or other mitigation systems found at the local level may not be included in this analysis.",
 "extent": {
  "xmin": -81.54802207265011,
  "ymin": 31.70514610589587,
  "xmax": -78.49922984385813,
  "ymax": 34.300648444399854,
  "spatialReference": {
   "wkid": 4269,
   "latestWkid": 4269
  }
 },
 "initialExtent": {
  "xmin": -81.54802207265011,
  "ymin": 31.70514610589587,
  "xmax": -78.49922984385813,
  "ymax": 34.300648444399854,
  "spatialReference": {
   "wkid": 4269,
   "latestWkid": 4269
  }
 },
 "fullExtent": {
  "xmin": -81.54802207265011,
  "ymin": 31.70514610589587,
  "xmax": -78.49922984385813,
  "ymax": 34.300648444399854,
  "spatialReference": {
   "wkid": 4269,
   "latestWkid": 4269
  }
 },
 "sortableFields": "",
 "bandCount": 1,
 "pixelType": "U8",
 "minValues": [
  1
 ],
 "maxValues": [
  21
 ],
 "meanValues": [
  12.028068082286914
 ],
 "stdvValues": [
  6.39873728988249
 ],
 "serviceProperties": "Center<\/MosaicMethod>First<\/MosaicOperator>true<\/SortAscending><\/LockImageID><\/TileOrderField>0<\/TileOrderBase>0.000000<\/AvgImageSpacingX>0.000000<\/AvgImageSpacingY>0.0<\/ViewPointX>0.0<\/ViewPointY>0.0<\/ViewPointDefShiftX>0.0<\/ViewPointDefShiftY>None<\/CompressionMethod>75<\/CompressionQuality>0.010000<\/CompressionTolerance>Bilinear<\/SamplingMethod><\/ImageServiceProperties><\/ImageServer>",
 "allowedFields": "",
 "hasMultidimensions": false,
 "pixelSizeX": 8.983152799999945E-5,
 "pixelSizeY": 8.983152799999944E-5,
 "meanPixelSize": 9.999999954141636,
 "datasetFormat": "FGDBR",
 "uncompressedSize": 980599527,
 "blockWidth": 128,
 "blockHeight": 128,
 "compressionType": "LZ77",
 "bandNames": [
  "Band_1"
 ],
 "allowCopy": true,
 "allowAnalysis": true,
 "itemAccess": false,
 "inspectionCapabilities": "",
 "minPixelSize": 0,
 "maxPixelSize": 0,
 "copyrightText": "",
 "serviceDataType": "esriImageServiceDataTypeThematic",
 "serviceSourceType": "esriImageServiceSourceTypeDataset",
 "objectIdField": "",
 "fields": [],
 "capabilities": "Image,Metadata,Mensuration",
 "defaultMosaicMethod": "Center",
 "allowedMosaicMethods": "",
 "sortField": "",
 "sortValue": null,
 "sortAscending": true,
 "mosaicOperator": "First",
 "defaultCompressionQuality": 75,
 "defaultResamplingMethod": "Bilinear",
 "maxImageHeight": 4100,
 "maxImageWidth": 15000,
 "allowRasterFunction": true,
 "rasterFunctionInfos": [
  {
   "name": "None",
   "description": "",
   "help": ""
  }
 ],
 "rasterTypeInfos": [
  {
   "name": "Raster Dataset",
   "description": "Supports all ArcGIS Raster Datasets",
   "help": ""
  }
 ],
 "mensurationCapabilities": "Basic",
 "hasHistograms": true,
 "hasColormap": false,
 "hasRasterAttributeTable": true,
 "minScale": 0,
 "maxScale": 0,
 "exportTilesAllowed": false,
 "supportsStatistics": false,
 "supportsAdvancedQueries": false,
 "editFieldsInfo": null,
 "ownershipBasedAccessControlForRasters": null,
 "allowComputeTiePoints": false,
 "useStandardizedQueries": true,
 "advancedQueryCapabilities": {
  "useStandardizedQueries": true,
  "supportsStatistics": false,
  "supportsOrderBy": false,
  "supportsDistinct": false,
  "supportsPagination": false
 },
 "spatialReference": {
  "wkid": 4269,
  "latestWkid": 4269
 }
}
