{
 "currentVersion": 11.5,
 "serviceDescription": "This service contains a countywide DEM provided as part of Lidar project in 2017",
 "serviceItemId": "bf851a28d29344028e9121ebb54b050d",
 "name": "SCDNR_DEM2017/Charleston_HydroEnforced_DEM",
 "description": "This service contains a countywide DEM provided as part of Lidar project in 2017",
 "extent": {
  "xmin": 2165000,
  "ymin": 235000,
  "xmax": 2535000,
  "ymax": 510000,
  "spatialReference": {
   "wkid": 103146,
   "latestWkid": 6570,
   "vcsWkid": 105703,
   "latestVcsWkid": 6360
  }
 },
 "initialExtent": {
  "xmin": 2165000,
  "ymin": 235000,
  "xmax": 2535000,
  "ymax": 510000,
  "spatialReference": {
   "wkid": 103146,
   "latestWkid": 6570,
   "vcsWkid": 105703,
   "latestVcsWkid": 6360
  }
 },
 "fullExtent": {
  "xmin": 2165000,
  "ymin": 235000,
  "xmax": 2535000,
  "ymax": 510000,
  "spatialReference": {
   "wkid": 103146,
   "latestWkid": 6570,
   "vcsWkid": 105703,
   "latestVcsWkid": 6360
  }
 },
 "sortableFields": "",
 "heightModelInfo": {
  "heightModel": "gravity_related_height",
  "vertCRS": "NAVD_1988_Foot_US",
  "heightUnit": "us-foot"
 },
 "bandCount": 1,
 "pixelType": "F32",
 "minValues": [
  -54.42790985107422
 ],
 "maxValues": [
  119.10990142822266
 ],
 "meanValues": [
  9.838468881580193
 ],
 "stdvValues": [
  12.045167190831586
 ],
 "serviceProperties": "Center<\/MosaicMethod>First<\/MosaicOperator>true<\/SortAscending><\/LockImageID><\/TileOrderField>0<\/TileOrderBase>0.000000<\/AvgImageSpacingX>0.000000<\/AvgImageSpacingY>0.0<\/ViewPointX>0.0<\/ViewPointY>0.0<\/ViewPointDefShiftX>0.0<\/ViewPointDefShiftY>None<\/CompressionMethod>75<\/CompressionQuality>0.010000<\/CompressionTolerance>Bilinear<\/SamplingMethod><\/ImageServiceProperties><\/ImageServer>",
 "allowedFields": "",
 "hasMultidimensions": false,
 "pixelSizeX": 2.5,
 "pixelSizeY": 2.5,
 "meanPixelSize": 0.762,
 "datasetFormat": "FGDBR",
 "uncompressedSize": 65120000000,
 "blockWidth": 128,
 "blockHeight": 128,
 "compressionType": "LZ77",
 "bandNames": [
  "Band_1"
 ],
 "allowCopy": true,
 "allowAnalysis": true,
 "itemAccess": false,
 "inspectionCapabilities": "",
 "minPixelSize": 0,
 "maxPixelSize": 0,
 "copyrightText": "SCDNR, County of Charleston",
 "serviceDataType": "esriImageServiceDataTypeGeneric",
 "serviceSourceType": "esriImageServiceSourceTypeDataset",
 "objectIdField": "",
 "fields": [],
 "capabilities": "Image,Metadata,Mensuration",
 "defaultMosaicMethod": "Center",
 "allowedMosaicMethods": "",
 "sortField": "",
 "sortValue": null,
 "sortAscending": true,
 "mosaicOperator": "First",
 "defaultCompressionQuality": 75,
 "defaultResamplingMethod": "Bilinear",
 "maxImageHeight": 4100,
 "maxImageWidth": 15000,
 "allowRasterFunction": true,
 "rasterFunctionInfos": [
  {
   "name": "None",
   "description": "",
   "help": ""
  }
 ],
 "rasterTypeInfos": [
  {
   "name": "Raster Dataset",
   "description": "Supports all ArcGIS Raster Datasets",
   "help": ""
  }
 ],
 "mensurationCapabilities": "Basic",
 "hasHistograms": true,
 "hasColormap": false,
 "hasRasterAttributeTable": false,
 "minScale": 0,
 "maxScale": 0,
 "exportTilesAllowed": false,
 "supportsStatistics": false,
 "supportsAdvancedQueries": false,
 "editFieldsInfo": null,
 "ownershipBasedAccessControlForRasters": null,
 "allowComputeTiePoints": false,
 "useStandardizedQueries": true,
 "advancedQueryCapabilities": {
  "useStandardizedQueries": true,
  "supportsStatistics": false,
  "supportsOrderBy": false,
  "supportsDistinct": false,
  "supportsPagination": false
 },
 "spatialReference": {
  "wkid": 103146,
  "latestWkid": 6570,
  "vcsWkid": 105703,
  "latestVcsWkid": 6360
 }
}
