View In:
ArcGIS JavaScript
ArcGIS Online Map Viewer
ArcGIS Earth
Service Description: 5ft DEM
Name: SCDNR_DEM2017/CHS5FOOTDEM
Description: 5ft DEM
Single Fused Map Cache: false
Extent:
XMin: 2167010.0
YMin: 239615.0
XMax: 2530640.0
YMax: 507415.0
Spatial Reference: 103146
(6570)
VCSWkid(105703)
LatestVCSWkid(6360)
Initial Extent:
XMin: 2167010.0
YMin: 239615.0
XMax: 2530640.0
YMax: 507415.0
Spatial Reference: 103146
(6570)
VCSWkid(105703)
LatestVCSWkid(6360)
Full Extent:
XMin: 2167010.0
YMin: 239615.0
XMax: 2530640.0
YMax: 507415.0
Spatial Reference: 103146
(6570)
VCSWkid(105703)
LatestVCSWkid(6360)
Pixel Size X: 5.0
Pixel Size Y: 5.0
Band Count: 1
Pixel Type: F32
RasterFunction Infos: {"rasterFunctionInfos": [{
"name": "None",
"description": "",
"help": ""
}]}
Mensuration Capabilities: Basic
Inspection Capabilities:
Has Histograms: true
Has Colormap: false
Has Multi Dimensions : false
Rendering Rule:
Min Scale: 0
Max Scale: 0
Copyright Text: Charleston County GIS, SCDNR
Service Data Type: esriImageServiceDataTypeGeneric
Min Values: -54.42790985107422
Max Values: 118.94414520263672
Mean Values: 9.841496948070242
Standard Deviation Values: 12.04331272419712
Object ID Field:
Fields:
None
Default Mosaic Method: Center
Allowed Mosaic Methods:
SortField:
SortValue: null
Mosaic Operator: First
Default Compression Quality: 75
Default Resampling Method: Bilinear
Max Record Count: null
Max Image Height: 4100
Max Image Width: 15000
Max Download Image Count: null
Max Mosaic Image Count: null
Allow Raster Function: true
Allow Copy: true
Allow Analysis: true
Allow Compute TiePoints: false
Supports Statistics: false
Supports Advanced Queries: false
Use StandardizedQueries: true
Raster Type Infos:
Name: Raster Dataset
Description: Supports all ArcGIS Raster Datasets
Help:
Has Raster Attribute Table: false
Edit Fields Info: null
Ownership Based AccessControl For Rasters: null
Child Resources:
Info
Histograms
Statistics
Key Properties
Legend
Raster Function Infos
Supported Operations:
Export Image
Identify
Measure
Compute Histograms
Compute Statistics Histograms
Get Samples
Compute Class Statistics
Query Boundary
Compute Pixel Location
Compute Angles
Validate
Project