View In:
ArcGIS JavaScript
ArcGIS Online Map Viewer
ArcGIS Earth
Service Description: This service contains a countywide DEM provided as part of Lidar project in 2017
Name: SCDNR_DEM2017/Charleston_HydroEnforced_DEM
Description: This service contains a countywide DEM provided as part of Lidar project in 2017
Single Fused Map Cache: false
Extent:
XMin: 2165000.0
YMin: 235000.0
XMax: 2535000.0
YMax: 510000.0
Spatial Reference: 103146
(6570)
VCSWkid(105703)
LatestVCSWkid(6360)
Initial Extent:
XMin: 2165000.0
YMin: 235000.0
XMax: 2535000.0
YMax: 510000.0
Spatial Reference: 103146
(6570)
VCSWkid(105703)
LatestVCSWkid(6360)
Full Extent:
XMin: 2165000.0
YMin: 235000.0
XMax: 2535000.0
YMax: 510000.0
Spatial Reference: 103146
(6570)
VCSWkid(105703)
LatestVCSWkid(6360)
Pixel Size X: 2.5
Pixel Size Y: 2.5
Band Count: 1
Pixel Type: F32
RasterFunction Infos: {"rasterFunctionInfos": [{
"name": "None",
"description": "",
"help": ""
}]}
Mensuration Capabilities: Basic
Inspection Capabilities:
Has Histograms: true
Has Colormap: false
Has Multi Dimensions : false
Rendering Rule:
Min Scale: 0
Max Scale: 0
Copyright Text: SCDNR, County of Charleston
Service Data Type: esriImageServiceDataTypeGeneric
Min Values: -54.42790985107422
Max Values: 119.10990142822266
Mean Values: 9.838468881580193
Standard Deviation Values: 12.045167190831586
Object ID Field:
Fields:
None
Default Mosaic Method: Center
Allowed Mosaic Methods:
SortField:
SortValue: null
Mosaic Operator: First
Default Compression Quality: 75
Default Resampling Method: Bilinear
Max Record Count: null
Max Image Height: 4100
Max Image Width: 15000
Max Download Image Count: null
Max Mosaic Image Count: null
Allow Raster Function: true
Allow Copy: true
Allow Analysis: true
Allow Compute TiePoints: false
Supports Statistics: false
Supports Advanced Queries: false
Use StandardizedQueries: true
Raster Type Infos:
Name: Raster Dataset
Description: Supports all ArcGIS Raster Datasets
Help:
Has Raster Attribute Table: false
Edit Fields Info: null
Ownership Based AccessControl For Rasters: null
Child Resources:
Info
Histograms
Statistics
Key Properties
Legend
Raster Function Infos
Supported Operations:
Export Image
Identify
Measure
Compute Histograms
Compute Statistics Histograms
Get Samples
Compute Class Statistics
Query Boundary
Compute Pixel Location
Compute Angles
Validate
Project